BEGIN:VCALENDAR
VERSION:2.0
PRODID:-//Positive Exposure - ECPv6.15.20//NONSGML v1.0//EN
CALSCALE:GREGORIAN
METHOD:PUBLISH
X-WR-CALNAME:Positive Exposure
X-ORIGINAL-URL:https://positiveexposure.org
X-WR-CALDESC:Events for Positive Exposure
REFRESH-INTERVAL;VALUE=DURATION:PT1H
X-Robots-Tag:noindex
X-PUBLISHED-TTL:PT1H
BEGIN:VTIMEZONE
TZID:America/New_York
BEGIN:DAYLIGHT
TZOFFSETFROM:-0500
TZOFFSETTO:-0400
TZNAME:EDT
DTSTART:20240310T070000
END:DAYLIGHT
BEGIN:STANDARD
TZOFFSETFROM:-0400
TZOFFSETTO:-0500
TZNAME:EST
DTSTART:20241103T060000
END:STANDARD
BEGIN:DAYLIGHT
TZOFFSETFROM:-0500
TZOFFSETTO:-0400
TZNAME:EDT
DTSTART:20250309T070000
END:DAYLIGHT
BEGIN:STANDARD
TZOFFSETFROM:-0400
TZOFFSETTO:-0500
TZNAME:EST
DTSTART:20251102T060000
END:STANDARD
BEGIN:DAYLIGHT
TZOFFSETFROM:-0500
TZOFFSETTO:-0400
TZNAME:EDT
DTSTART:20260308T070000
END:DAYLIGHT
BEGIN:STANDARD
TZOFFSETFROM:-0400
TZOFFSETTO:-0500
TZNAME:EST
DTSTART:20261101T060000
END:STANDARD
BEGIN:DAYLIGHT
TZOFFSETFROM:-0500
TZOFFSETTO:-0400
TZNAME:EDT
DTSTART:20270314T070000
END:DAYLIGHT
BEGIN:STANDARD
TZOFFSETFROM:-0400
TZOFFSETTO:-0500
TZNAME:EST
DTSTART:20271107T060000
END:STANDARD
END:VTIMEZONE
BEGIN:VEVENT
DTSTART;VALUE=DATE:20251016
DTEND;VALUE=DATE:20260201
DTSTAMP:20260424T221940
CREATED:20250916T155404Z
LAST-MODIFIED:20251216T192315Z
UID:43701-1760572800-1769903999@positiveexposure.org
SUMMARY:Introducing the New York Disability Rights Archive
DESCRIPTION:Introducing the New York Disability Rights Archive\n\nOn View October 16\, 2025 – January 31\, 2026\nDrop-In Guided Tours: Saturday\, January 10\, 11am – 4pm\nVisits by Appointment : Monday – Friday 10am – 6pm; Saturday 10am – 2pm\nPlease Contact: events@positiveexposure.org\nLearn more about the archive—and the long fight for accessible transportation in New York City. The New York Disability Rights Archive\, established in 2021\, preserves the records\, stories\, and strategies of local activists and advocates. Many of these individuals helped drive the movement that led to the Americans with Disabilities Act (ADA) and continue to push for change today.\nTransportation access is the archive’s most extensively documented topic area. Explore highlights that trace the evolution of New York City’s transportation system from the post–World War II era to the present—and witness how decades of activism reshaped the city.\n\nImage Description: Introductory poster with information about the event and a collage of photos and pamphlet covers from the New York Disability Rights Archive related to accessible transportation.
URL:https://positiveexposure.org/event/nydisabilityrightsarchive/
LOCATION:Positive Exposure Gallery\, 83 Maiden Lane\, New York\, NY\, 10038
CATEGORIES:PE Gallery
ATTACH;FMTTYPE=image/png:https://files.positiveexposure.org/wp-content/uploads/2025/11/06164000/Screenshot-2025-11-06-at-4.39.49-PM.png
END:VEVENT
BEGIN:VEVENT
DTSTART;TZID=America/New_York:20251101T120000
DTEND;TZID=America/New_York:20251101T160000
DTSTAMP:20260424T221940
CREATED:20251028T205707Z
LAST-MODIFIED:20251101T144518Z
UID:43749-1761998400-1762012800@positiveexposure.org
SUMMARY:myFace: Through My Lens Photo Exhibition
DESCRIPTION:myFace: Through My Lens\nRSVP here\n \nFeatured on the left side of the image are three photos situated vertically in a film strip. The first is a woman standing outside in a soft pink gown with large\, pink angel wings\, gazing towards the sky. The second image features a small girl with a facial difference in a yellow dress and sandals\, sitting in a pumpkin patch on a red wagon. The third photo features the back of a brunette woman with port wine stains on her upper right deltoid and right cheek. On a white background next to the film strip is black and blue text describing the upcoming event: myFace: Through My Lens; You’re invited to our First Photo Exhibition; SATURDAY\, NOVEMBER 1 12:00-4:00 PM. Positive Exposure Gallery. 83 Maiden Lane 4th floor\, New York\, NY. Join us for the grand finale of our photo contest — a celebration of art\, identity\, and the craniofacial community. Experience creativity\, connection\, and powerful visual storytelling told through the eyes of the artists themselves. EXPLORE THE EXHIBIT\, STAY FOR CONVERSATION AND LIGHT REFRESHMENTS. Since 1951\, myFace has been dedicated to transforming the lives of individuals and families impacted by craniofacial differences through programming and strategic partnerships that provide access to multidisciplinary care\, education and comprehensive resources. The world is stronger when every person – no matter how they look – is valued\, respected\, included and empowered to achieve their greatest potential. Link to RSVP: https://docs.google.com/forms/d/e/1FAIpQLSfCh3ndERd7f8nC6n11a72TJgVkl6-8mdnnhAMlF6HagAUCTQ/viewform?usp=send_form
URL:https://positiveexposure.org/event/myface-through-my-lens-photo-exhibition/
CATEGORIES:PE Gallery
ATTACH;FMTTYPE=image/jpeg:https://files.positiveexposure.org/wp-content/uploads/2025/10/01104451/1-1.jpg
END:VEVENT
BEGIN:VEVENT
DTSTART;TZID=America/New_York:20251103T150000
DTEND;TZID=America/New_York:20251103T170000
DTSTAMP:20260424T221940
CREATED:20251101T142333Z
LAST-MODIFIED:20251102T142951Z
UID:43799-1762182000-1762189200@positiveexposure.org
SUMMARY:National Association of Direct Support Professionals Graduation: Hosted @ Positive Exposure Gallery
DESCRIPTION:2025 Fall-Winter NADSP Graduation Program \nNADSP PILOT GRADUATION  \nWELCOME  \nMarco Damiani\, Chief Executive Officer\, AHRC NYC \nKEYNOTE SPEAKER  \nRick Guidotti\, Founder and Director\, Positive Exposure \nINTRODUCTORY REMARKS  \nJohn Barbuto\, Executive Deputy Commissioner of New York State\, OPWDD \nSIGNIFICANCE OF THE PROGRAM TO AHRC NYC  \nAND THE NEURODIVERSE FIELD  \nKathy Brown\, Regional Manager of E-Badge Academy Operations\, NADSP \nKembelyn Diaz\, Community Support Professional\, DSP-3\, AHRC NYC Brooklyn Transitions Edwin Rodriguez\, Jr.\, Director of Brooklyn Transitions\, AHRC NYC\, Front Line Supervisor and Team Lead for NADSP \nMatthew Halder\, Community Support Supervisor and Front Line Supervisor\, AHRC NYC Fisher Adult Day Services \nRECOGNITION OF GRADUATING CLASS AND PRESENTATION OF CERTIFICATIONS  \nAdrienne Mazeau\, Deputy Commissioner for the Division of Administration\, NYS of OPWDD \nLindsay Murry\, NADSP E-Badge Academy Project Manager\, AHRC NYC Bernadette Balane\, Staff Training Director\, Adult Day Services\, AHRC NYC and Team Lead for NADSP
URL:https://positiveexposure.org/event/national-association-of-direct-support-professionals-graduation-hosted-positive-exposure-gallery/
CATEGORIES:PE Gallery
ATTACH;FMTTYPE=image/jpeg:https://files.positiveexposure.org/wp-content/uploads/2025/11/01103605/1.jpg
END:VEVENT
BEGIN:VEVENT
DTSTART;TZID=America/New_York:20251104T133000
DTEND;TZID=America/New_York:20251104T143000
DTSTAMP:20260424T221940
CREATED:20251102T135236Z
LAST-MODIFIED:20251102T140617Z
UID:43816-1762263000-1762266600@positiveexposure.org
SUMMARY:SUNY Downstate Medical School Lecture
DESCRIPTION:Course:\nUnit 2: Molecules to Cells COM 2025/2026 R1 – SUNY Downstate Health Sciences University\n\n\nEvent:\n[304] Guest Lecture: Mr. Rick Guidotti\, Positive Exposure\n\n\n\nLecture\n\n\nWhere:\nAlumni Auditorium\n\n\nStart:\n2025-11-04 01:30 PM\n\n\nEnd:\n2025-11-04 02:30 PM\n\n\n\nhttps://www.downstate.edu/about/our-mission.html
URL:https://positiveexposure.org/event/suny-downstate-medical-school-lecture/
LOCATION:Alumni Auditorium
CATEGORIES:Lectures & Presentations
ATTACH;FMTTYPE=image/jpeg:https://files.positiveexposure.org/wp-content/uploads/2025/11/02084804/1-1.jpg
END:VEVENT
BEGIN:VEVENT
DTSTART;TZID=America/New_York:20251104T163000
DTEND;TZID=America/New_York:20251104T193000
DTSTAMP:20260424T221940
CREATED:20251103T160254Z
LAST-MODIFIED:20251103T160307Z
UID:43832-1762273800-1762284600@positiveexposure.org
SUMMARY:SPINAL MOBILITY with Lawrence Harding Fall 2025 Session BEGINS November 4th @ POSITIVE EXPOSURE GALLERY
DESCRIPTION:SPINAL MOBILITY with Lawrence Harding Fall 2025 Session November 4th – December 16th\, 2025 at POSITIVE EXPOSURE Tuesdays: 4:30 PM – 7:30 PM To RSVP and for more info | info@wheelingforward.org www.wheelingforward.org | www.positiveexposure.org \nWF_Spinal Mobility Program Overview_Fall 2025 v1 \n 
URL:https://positiveexposure.org/event/spinal-mobility-with-lawrence-harding-fall-2025-session-begins-november-4th-positive-exposufre-gallery/
CATEGORIES:PE Gallery
ATTACH;FMTTYPE=image/jpeg:https://files.positiveexposure.org/wp-content/uploads/2025/11/03110050/1-3.jpg
END:VEVENT
BEGIN:VEVENT
DTSTART;TZID=America/New_York:20251104T173000
DTEND;TZID=America/New_York:20251104T193000
DTSTAMP:20260424T221940
CREATED:20251102T140355Z
LAST-MODIFIED:20251102T141033Z
UID:43819-1762277400-1762284600@positiveexposure.org
SUMMARY:Icahn School of Medicine at Mount Sinai Lecture: The Pulse of Art
DESCRIPTION:Connections Between the History of Art and the History of Medicine\nTuesdays 5:30‐7:00\nBarry Coller\, M.D. and Bobbi Coller\, Ph.D. \n\nSession 7\nGuest speaker\, Rick Guidotti\, Founder and Director of Positive Exposures\, an award-winning photographer who has used photography to effect a sea-change in societal attitudes towards individuals living with genetic\, physical\, behavioral or intellectual difference.
URL:https://positiveexposure.org/event/icahn-school-of-medicine-at-mount-sinai-lecture-the-pulse-of-art/
LOCATION:Room 12-01 (the large lecture hall near the elevator on the 12th floor) in the Annenberg building
CATEGORIES:Lectures & Presentations
ATTACH;FMTTYPE=image/png:https://files.positiveexposure.org/wp-content/uploads/2025/11/02091011/Screenshot-2025-11-02-at-9.09.31-AM.png
END:VEVENT
BEGIN:VEVENT
DTSTART;VALUE=DATE:20251105
DTEND;VALUE=DATE:20260101
DTSTAMP:20260424T221940
CREATED:20251031T132904Z
LAST-MODIFIED:20251126T193228Z
UID:43783-1762300800-1767225599@positiveexposure.org
SUMMARY:PICTURING THE PERSONAL: Photographs by the Josephine Herrick Project
DESCRIPTION:PICTURING THE PERSONAL\n83 Maiden Lane\, 4th Floor\nOn view by appointment through 2025\n Please contact events@positiveexposure.org.\nPicturing the Personal brought people who have faced the challenges of traumatic brain injury to explore visual storytelling together. Each class dove into new photographic mediums including instant prints\, digital photography\, image transfers\, cyanotypes\, and layered elements of drawing\, collage\, and written text.\nLead artist Claire Gilliam taught participants about photographers who pushed the boundaries of what photography is and could be. She encouraged participants to photograph their personal life and to question what a self-portrait means to them.\nThe Josephine Herrick Project amplifies underrepresented voices through photography\, giving people the tools to see differently\, communicate across cultures\, and advocate for themselves and their communities.\n\nImage Description: On the top left\, in white atop a black background are a logo and text: “JOSEPHINE HERRICK PROJECT”. To the right on the header in black\, gray\, and red text on a white background reads: PICTURING THE PERSONAL Photographic Art Exhibition; Join us! Reception: Wednesday\, Nov. 5\, 5-7pm Positive Exposure Gallery\, 83 Maiden Lane\, New York\, 4th. Below the header is a photo credited to Anthony S.\, featuring a rainbow on the water in a park\, with bright green trees and swing sets in the background. Written to the left: “RSVP for Opening! info@jhproject.org; On view November 5-10 By appointment only: events@positiveexposure.org. Logos on the bottom left feature National Endowment for the Arts\, NYC Cultural Affairs\, New York Council on the Arts\, Helen Frankenthaler Foundation\, The Andy Warhol Foundation for the Visual Arts\, and Positive Exposure.\n 
URL:https://positiveexposure.org/event/picturing-the-personal-photographs-by-the-josephine-herrick-project/
LOCATION:Positive Exposure Gallery\, 83 Maiden Lane\, New York\, NY\, 10038
CATEGORIES:PE Gallery
ATTACH;FMTTYPE=image/jpeg:https://files.positiveexposure.org/wp-content/uploads/2025/10/01104020/1.jpg
END:VEVENT
BEGIN:VEVENT
DTSTART;TZID=America/New_York:20251105T170000
DTEND;TZID=America/New_York:20251105T190000
DTSTAMP:20260424T221940
CREATED:20251031T131841Z
LAST-MODIFIED:20251101T143741Z
UID:43776-1762362000-1762369200@positiveexposure.org
SUMMARY:PICTURING THE PERSONAL Exhibition Opening
DESCRIPTION:PICTURING THE PERSONAL\nOpening Reception: Wednesday\, November 5th\, 5-7pm\n83 Maiden Lane\, 4th Floor\nPlease RSVP via email: info@ihproject.org\nPicturing the Personal brought people who have faced the challenges of traumatic brain injury to explore visual storytelling together. Each class dove into new photographic mediums including instant prints\, digital photography\, image transfers\, cyanotypes\, and layered elements of drawing\, collage\, and written text.\nLead artist Claire Gilliam taught participants about photographers who pushed the boundaries of what photography is and could be. She encouraged participants to photograph their personal life and to question what a self-portrait means to them.\nThe Josephine Herrick Project amplifies underrepresented voices through photography\, giving people the tools to see differently\, communicate across cultures\, and advocate for themselves and their communities.\n \nImage Description: On the top left\, in white atop a black background are a logo and text: “JOSEPHINE HERRICK PROJECT”. To the right on the header in black\, gray\, and red text on a white background reads: PICTURING THE PERSONAL Photographic Art Exhibition; Join us! Reception: Wednesday\, Nov. 5\, 5-7pm Positive Exposure Gallery\, 83 Maiden Lane\, New York\, 4th. Below the header is a photo credited to Anthony S.\, featuring a rainbow on the water in a park\, with bright green trees and swing sets in the background. Written to the left: “RSVP for Opening! info@jhproject.org; On view November 5-10 By appointment only: events@positiveexposure.org. Logos on the bottom left feature National Endowment for the Arts\, NYC Cultural Affairs\, New York Council on the Arts\, Helen Frankenthaler Foundation\, The Andy Warhol Foundation for the Visual Arts\, and Positive Exposure.\n 
URL:https://positiveexposure.org/event/picturing-the-personal-opening/
LOCATION:Positive Exposure Gallery\, 83 Maiden Lane\, New York\, NY\, 10038
CATEGORIES:PE Gallery
ATTACH;FMTTYPE=image/jpeg:https://files.positiveexposure.org/wp-content/uploads/2025/10/01103445/Screenshot-2025-11-01-at-10.30.57-AM.jpg
END:VEVENT
BEGIN:VEVENT
DTSTART;TZID=America/New_York:20251107T123000
DTEND;TZID=America/New_York:20251107T133000
DTSTAMP:20260424T221940
CREATED:20251102T142544Z
LAST-MODIFIED:20251102T142544Z
UID:43825-1762518600-1762522200@positiveexposure.org
SUMMARY:2025 Conference on Oral Health Kansas
DESCRIPTION:2025 Conference on Oral Health will be Friday\, November 7 at the KU Edwards Campus\, 12600 S Quivira Rd\, Overland Park. \nOral Health Kansas is working with partners to create a culture that values oral health as a part of overall health for Kansans of all ages\,\ncultures and resources. \n“Bringing people together to lead innovation in overall health for Kansans.” \nAttend our annual conference and meet advocates\, dentists\, dental hygienists\, students\, community members\, volunteers and others from around the state and the US. Learn about oral health issues in Kansas and national news. \n12:30 pm KEYNOTE: Positive Exposure by Rick Guidotti
URL:https://positiveexposure.org/event/2025-conference-on-oral-health-kansas/
CATEGORIES:Lectures & Presentations
ATTACH;FMTTYPE=image/jpeg:https://files.positiveexposure.org/wp-content/uploads/2025/11/02092408/1-2.jpg
END:VEVENT
BEGIN:VEVENT
DTSTART;TZID=America/New_York:20251113T100000
DTEND;TZID=America/New_York:20251113T120000
DTSTAMP:20260424T221940
CREATED:20251103T185226Z
LAST-MODIFIED:20251103T185606Z
UID:43836-1763028000-1763035200@positiveexposure.org
SUMMARY:Gallatin School of Individualized Study\, NYU @ PE Gallery
DESCRIPTION:Film/Cinema Studies visit to Positive Exposure Gallery for Positive Exposure and FRAME Film presentation.\nCreativity\, versatility\, and rigor characterize the academic program at the NYU Gallatin School of Individualized Study. Film/Cinema Studies @ NYU\n\n\n\n\nThe Gallatin School of Individualized Study provides a distinctive liberal arts education for a dynamic student body. Our curriculum offers flexible degree requirements and an array of seminar-style\, interdisciplinary courses to help students fulfill them. As a Gallatin student\, you have the freedom to combine the innovative course offerings at Gallatin with the hundreds of classes being taught across NYU each semester by some of the country’s leading scholars\, researchers\, and professionals.
URL:https://positiveexposure.org/event/gallatin-school-of-individualized-study-nyu-pe-gallery/
CATEGORIES:Lectures & Presentations,PE Gallery,Photography and Film
ATTACH;FMTTYPE=image/jpeg:https://files.positiveexposure.org/wp-content/uploads/2025/11/03135436/1a.jpg
END:VEVENT
BEGIN:VEVENT
DTSTART;TZID=America/New_York:20251113T170000
DTEND;TZID=America/New_York:20251113T200000
DTSTAMP:20260424T221940
CREATED:20251102T144442Z
LAST-MODIFIED:20251104T204506Z
UID:43827-1763053200-1763064000@positiveexposure.org
SUMMARY:Made A Masterpiece Event @ Positive Exposure Gallery
DESCRIPTION:Celebrating the beauty and art of people living with skin conditions.\nPLEASE JOIN MADE A MASTERPIECE & POSITIVE EXPOSURE IN A NIGHT OF FUN & LEARNING AS WE COME TOGETHER & CELEBRATE OUR COMMUNITY FOR THOSE WITH SKIN CONDITIONS WHO WERE MADE TO BE EXTRAORDINARY WORKS OF ART \n6:15pm Mix & mingle with light bites & Libations + enjoy the art of the Positive Exposure gallery + bid on silent auction items \n5-6:30pm Viewing of Positive Exposure’s FRAME film on hidradenitis suppurativa \n7:00pm Discussion of the exhibition Look At Me. What Do You See?-This Is Me. Let Me Help You See!”\n+ Fashion Show & Tell \nRaffle drawing for winners of the Masterpiece Collective artwork\n+ Silent auction closes \nMORE INFORMATION AND TICKETS AT:\nhttps://givebutter.com/happyhourFUNdraiserNYC or scan the QR code \n \n 
URL:https://positiveexposure.org/event/made-a-masterpiece-event-positive-exposure-gallery/
LOCATION:Positive Exposure Gallery\, 83 Maiden Lane\, New York\, NY\, 10038
CATEGORIES:Lectures & Presentations,PE Gallery,Photography and Film
ATTACH;FMTTYPE=image/jpeg:https://files.positiveexposure.org/wp-content/uploads/2025/11/02094027/1-NYC-Fundraiser.jpg
END:VEVENT
BEGIN:VEVENT
DTSTART;TZID=America/New_York:20251115T100000
DTEND;TZID=America/New_York:20251115T160000
DTSTAMP:20260424T221940
CREATED:20251106T222252Z
LAST-MODIFIED:20251107T210725Z
UID:43851-1763200800-1763222400@positiveexposure.org
SUMMARY:New York Disability Rights Archive: Guided Tour Upon Request
DESCRIPTION:Introducing the New York Disability Rights Archive\nGuided Tour Upon Request: Saturday\, November 15\, 10am – 4pm\n\nPlease contact events@positiveexposure.org to schedule!\nLearn more about the archive—and the long fight for accessible transportation in New York City. The New York Disability Rights Archive\, established in 2021\, preserves the records\, stories\, and strategies of local activists and advocates. Many of these individuals helped drive the movement that led to the Americans with Disabilities Act (ADA) and continue to push for change today.\nTransportation access is the archive’s most extensively documented topic area. Explore highlights that trace the evolution of New York City’s transportation system from the post–World War II era to the present—and witness how decades of activism reshaped the city.\n\nImage Description: Introductory poster with information about the event and a collage of photos and pamphlet covers from the New York Disability Rights Archive related to accessible transportation.
URL:https://positiveexposure.org/event/new-york-disability-rights-archive-guided-tour-nov15/
LOCATION:Positive Exposure Gallery\, 83 Maiden Lane\, New York\, NY\, 10038
CATEGORIES:PE Gallery
ATTACH;FMTTYPE=image/png:https://files.positiveexposure.org/wp-content/uploads/2025/11/06190334/2.png
END:VEVENT
BEGIN:VEVENT
DTSTART;TZID=America/New_York:20251118T060000
DTEND;TZID=America/New_York:20251118T203000
DTSTAMP:20260424T221940
CREATED:20251110T220058Z
LAST-MODIFIED:20251111T234455Z
UID:43869-1763445600-1763497800@positiveexposure.org
SUMMARY:El Padrino Film Screening: Starring Christopher Alvarez - Directed by Terrence Ross
DESCRIPTION:Mark Your Calendar for Tuesday\, November 18th to watch Christopher Alvarez as El Padrino in a very timely autobiopic that intersects the pitfalls of NYC’s immigration and healthcare systems.\nFollow Alvarez’s cleverness as he helps his home health aid’s family escape ICE deportation. For more details on the film\, click here!\nTuesday\, November 18th\nReception at 6pm & Screening at 7pm\n83 Maiden Lane\, 4th FlooR\nPlease RSVP by calling 347-653-2566\n \nThis movie poster features a black background with a photograph of three people on a NYC subway platform. Most of the photograph is black and white\, except for a few details\, which are in bright color: a pink wig\, a blue denim shirt\, orange tinted sunglasses\, and the American flag on the subway car.  The text reads: “El Padrino. ICE melts in his hands. Preview Screening Starring Christopher Alvarez – Directed by Terrence Ross. www.elpadrinouno.com.”
URL:https://positiveexposure.org/event/elpadrino/
LOCATION:Positive Exposure Gallery\, 83 Maiden Lane\, New York\, NY\, 10038
CATEGORIES:PE Gallery,Photography and Film
ATTACH;FMTTYPE=image/jpeg:https://files.positiveexposure.org/wp-content/uploads/2025/11/11132411/ElPadrino-Feature.jpg
END:VEVENT
BEGIN:VEVENT
DTSTART;TZID=America/New_York:20251119T180000
DTEND;TZID=America/New_York:20251119T203000
DTSTAMP:20260424T221940
CREATED:20251106T234654Z
LAST-MODIFIED:20251111T182716Z
UID:43854-1763575200-1763584200@positiveexposure.org
SUMMARY:Film Screening: The Biggest Obstacle
DESCRIPTION:Film Screening: The Biggest Obstacle\nWednesday\, November 19\, 6:00-8:30pm\nJoin us for a screening of the 2021 film The Biggest Obstacle. The film will begin at 6:30pm and run for 99 minutes with open captions and audio description. There will be time before and after for viewing the New York Disability Rights Archive introductory exhibit and questions with Associate Producer\, Jessica Murray.\nThe Biggest Obstacle follows the investigations of researcher and disability rights activist Jessica Murray as she examines accessibility in the New York City Transit System over a two year period. From 2018-2020\, she progresses from being a vocal activist to having the ear of MTA leadership. The film features numerous interviews and ride-alongs with people with a variety of disabilities as they discuss and demonstrate their experiences with the transit system and their activism. It also includes documentation of numerous protests and an exclusive interview and ride-along with New York Transit President Andy Byford as he discusses the work he did to improve accessibility and his sudden departure in the middle of restructuring the system just before the COVID-19 virus first hit New York City.\n\n\nImage Description: Film poster depicting an blurry photograph of people waiting for a train. The image is dark and layered with brightly colored lights. The text reads: “The Biggest Obstacle\, a film by Gearóid Dolan.” Three film laurels are depicted at the bottom of the poster\, including “Official Selection Manhattan Film Festival 2021\,” “Winner Award of Merit at the IndieFEST Film Awards 2021\,” and “Official Selection New York City Independent Film Festival 2021.”
URL:https://positiveexposure.org/event/film-screening-the-biggest-obstacle-nov19/
LOCATION:Positive Exposure Gallery\, 83 Maiden Lane\, New York\, NY\, 10038
CATEGORIES:PE Gallery,Photography and Film
ATTACH;FMTTYPE=image/png:https://files.positiveexposure.org/wp-content/uploads/2025/11/06190338/3.png
END:VEVENT
END:VCALENDAR