BEGIN:VCALENDAR
VERSION:2.0
PRODID:-//Positive Exposure - ECPv6.15.20//NONSGML v1.0//EN
CALSCALE:GREGORIAN
METHOD:PUBLISH
X-WR-CALNAME:Positive Exposure
X-ORIGINAL-URL:https://positiveexposure.org
X-WR-CALDESC:Events for Positive Exposure
REFRESH-INTERVAL;VALUE=DURATION:PT1H
X-Robots-Tag:noindex
X-PUBLISHED-TTL:PT1H
BEGIN:VTIMEZONE
TZID:America/New_York
BEGIN:DAYLIGHT
TZOFFSETFROM:-0500
TZOFFSETTO:-0400
TZNAME:EDT
DTSTART:20240310T070000
END:DAYLIGHT
BEGIN:STANDARD
TZOFFSETFROM:-0400
TZOFFSETTO:-0500
TZNAME:EST
DTSTART:20241103T060000
END:STANDARD
BEGIN:DAYLIGHT
TZOFFSETFROM:-0500
TZOFFSETTO:-0400
TZNAME:EDT
DTSTART:20250309T070000
END:DAYLIGHT
BEGIN:STANDARD
TZOFFSETFROM:-0400
TZOFFSETTO:-0500
TZNAME:EST
DTSTART:20251102T060000
END:STANDARD
BEGIN:DAYLIGHT
TZOFFSETFROM:-0500
TZOFFSETTO:-0400
TZNAME:EDT
DTSTART:20260308T070000
END:DAYLIGHT
BEGIN:STANDARD
TZOFFSETFROM:-0400
TZOFFSETTO:-0500
TZNAME:EST
DTSTART:20261101T060000
END:STANDARD
BEGIN:DAYLIGHT
TZOFFSETFROM:-0500
TZOFFSETTO:-0400
TZNAME:EDT
DTSTART:20270314T070000
END:DAYLIGHT
BEGIN:STANDARD
TZOFFSETFROM:-0400
TZOFFSETTO:-0500
TZNAME:EST
DTSTART:20271107T060000
END:STANDARD
END:VTIMEZONE
BEGIN:VEVENT
DTSTART;VALUE=DATE:20251016
DTEND;VALUE=DATE:20260201
DTSTAMP:20260424T193333
CREATED:20250916T155404Z
LAST-MODIFIED:20251216T192315Z
UID:43701-1760572800-1769903999@positiveexposure.org
SUMMARY:Introducing the New York Disability Rights Archive
DESCRIPTION:Introducing the New York Disability Rights Archive\n\nOn View October 16\, 2025 – January 31\, 2026\nDrop-In Guided Tours: Saturday\, January 10\, 11am – 4pm\nVisits by Appointment : Monday – Friday 10am – 6pm; Saturday 10am – 2pm\nPlease Contact: events@positiveexposure.org\nLearn more about the archive—and the long fight for accessible transportation in New York City. The New York Disability Rights Archive\, established in 2021\, preserves the records\, stories\, and strategies of local activists and advocates. Many of these individuals helped drive the movement that led to the Americans with Disabilities Act (ADA) and continue to push for change today.\nTransportation access is the archive’s most extensively documented topic area. Explore highlights that trace the evolution of New York City’s transportation system from the post–World War II era to the present—and witness how decades of activism reshaped the city.\n\nImage Description: Introductory poster with information about the event and a collage of photos and pamphlet covers from the New York Disability Rights Archive related to accessible transportation.
URL:https://positiveexposure.org/event/nydisabilityrightsarchive/
LOCATION:Positive Exposure Gallery\, 83 Maiden Lane\, New York\, NY\, 10038
CATEGORIES:PE Gallery
ATTACH;FMTTYPE=image/png:https://files.positiveexposure.org/wp-content/uploads/2025/11/06164000/Screenshot-2025-11-06-at-4.39.49-PM.png
END:VEVENT
BEGIN:VEVENT
DTSTART;VALUE=DATE:20251105
DTEND;VALUE=DATE:20260101
DTSTAMP:20260424T193333
CREATED:20251031T132904Z
LAST-MODIFIED:20251126T193228Z
UID:43783-1762300800-1767225599@positiveexposure.org
SUMMARY:PICTURING THE PERSONAL: Photographs by the Josephine Herrick Project
DESCRIPTION:PICTURING THE PERSONAL\n83 Maiden Lane\, 4th Floor\nOn view by appointment through 2025\n Please contact events@positiveexposure.org.\nPicturing the Personal brought people who have faced the challenges of traumatic brain injury to explore visual storytelling together. Each class dove into new photographic mediums including instant prints\, digital photography\, image transfers\, cyanotypes\, and layered elements of drawing\, collage\, and written text.\nLead artist Claire Gilliam taught participants about photographers who pushed the boundaries of what photography is and could be. She encouraged participants to photograph their personal life and to question what a self-portrait means to them.\nThe Josephine Herrick Project amplifies underrepresented voices through photography\, giving people the tools to see differently\, communicate across cultures\, and advocate for themselves and their communities.\n\nImage Description: On the top left\, in white atop a black background are a logo and text: “JOSEPHINE HERRICK PROJECT”. To the right on the header in black\, gray\, and red text on a white background reads: PICTURING THE PERSONAL Photographic Art Exhibition; Join us! Reception: Wednesday\, Nov. 5\, 5-7pm Positive Exposure Gallery\, 83 Maiden Lane\, New York\, 4th. Below the header is a photo credited to Anthony S.\, featuring a rainbow on the water in a park\, with bright green trees and swing sets in the background. Written to the left: “RSVP for Opening! info@jhproject.org; On view November 5-10 By appointment only: events@positiveexposure.org. Logos on the bottom left feature National Endowment for the Arts\, NYC Cultural Affairs\, New York Council on the Arts\, Helen Frankenthaler Foundation\, The Andy Warhol Foundation for the Visual Arts\, and Positive Exposure.\n 
URL:https://positiveexposure.org/event/picturing-the-personal-photographs-by-the-josephine-herrick-project/
LOCATION:Positive Exposure Gallery\, 83 Maiden Lane\, New York\, NY\, 10038
CATEGORIES:PE Gallery
ATTACH;FMTTYPE=image/jpeg:https://files.positiveexposure.org/wp-content/uploads/2025/10/01104020/1.jpg
END:VEVENT
BEGIN:VEVENT
DTSTART;TZID=America/New_York:20251206T100000
DTEND;TZID=America/New_York:20251206T160000
DTSTAMP:20260424T193333
CREATED:20251106T222611Z
LAST-MODIFIED:20251107T210744Z
UID:43852-1765015200-1765036800@positiveexposure.org
SUMMARY:New York Disability Rights Archive: Guided Tour Upon Request
DESCRIPTION:Introducing the New York Disability Rights Archive\nGuided Tour Upon Request: Saturday\, December 6\, 10am – 4pm\n\nPlease contact events@positiveexposure.org to schedule\nLearn more about the archive—and the long fight for accessible transportation in New York City. The New York Disability Rights Archive\, established in 2021\, preserves the records\, stories\, and strategies of local activists and advocates. Many of these individuals helped drive the movement that led to the Americans with Disabilities Act (ADA) and continue to push for change today.\nTransportation access is the archive’s most extensively documented topic area. Explore highlights that trace the evolution of New York City’s transportation system from the post–World War II era to the present—and witness how decades of activism reshaped the city.\n\nImage Description: Introductory poster with information about the event and a collage of photos and pamphlet covers from the New York Disability Rights Archive related to accessible transportation.
URL:https://positiveexposure.org/event/new-york-disability-rights-archive-guided-tour-dec6/
CATEGORIES:PE Gallery
ATTACH;FMTTYPE=image/png:https://files.positiveexposure.org/wp-content/uploads/2025/11/06190330/1.png
END:VEVENT
BEGIN:VEVENT
DTSTART;VALUE=DATE:20251207
DTEND;VALUE=DATE:20260116
DTSTAMP:20260424T193333
CREATED:20251121T215101Z
LAST-MODIFIED:20260108T194804Z
UID:43895-1765065600-1768521599@positiveexposure.org
SUMMARY:Resilience as a Practice: Adapt Community Network Art Show
DESCRIPTION:Resilience as a Practice\nAdapt Community Network Art Show\n83 Maiden Lane\, 4th Floor\n\nOpening Sunday December 7\, 2 – 5pm\nPlease RSVP Here\nOn View through January 16\, 2026\nJoin us for Resilience as a Practice\, a vibrant exhibition showcasing the work of disabled artists who are reflecting on what it means to be resilient. Through bold works addressing love\, connection\, and collective care these artists turn resilience into a shared practice rooted in interdependence\, love\, joy and collective power. \n \n  \nA poster features a digital painting of a Central Park scene\, with white text on the top right: ON VIEW DEC 7th – JAN 14th. On a gray background in white and red text writes: RESILIENCE AS A PRACTICE; Join us for Resilience as a Practice\, a vibrant exhibition showcasing the work of disabled artists who are reflecting on what it means to be resilient. Through bold works addressing love\, connection\, and collective care these artists turn resilience into a shared practice rooted in interdependence\, love\, joy\, and collective power. Sunday 12/7/25 2PM-5PM. Positive Exposure Gallery 83 Maiden Lane NY\, NY 4th Floor. Footer contains logos: ADAPT COMMUNITY NETWORK\, [we change]\, and POSITIVE EXPOSURE.
URL:https://positiveexposure.org/event/resilience-as-a-practice-adapt-community-network-art-show/
LOCATION:Positive Exposure Gallery\, 83 Maiden Lane\, New York\, NY\, 10038
CATEGORIES:PE Gallery
ATTACH;FMTTYPE=image/jpeg:https://files.positiveexposure.org/wp-content/uploads/2025/11/21165646/2-1.jpg
END:VEVENT
BEGIN:VEVENT
DTSTART;TZID=America/New_York:20251207T140000
DTEND;TZID=America/New_York:20251207T170000
DTSTAMP:20260424T193333
CREATED:20251121T215359Z
LAST-MODIFIED:20251124T235128Z
UID:43901-1765116000-1765126800@positiveexposure.org
SUMMARY:Resilience as a Practice: Opening Celebration
DESCRIPTION:Resilience as a Practice\nAdapt Community Network Art Show\n83 Maiden Lane\, 4th Floor\n\nOpening Sunday December 7\, 2 – 5pm\nPlease RSVP Here\nOn View through January 14\, 2026\nJoin us for Resilience as a Practice\, a vibrant exhibition showcasing the work of disabled artists who are reflecting on what it means to be resilient. Through bold works addressing love\, connection\, and collective care these artists turn resilience into a shared practice rooted in interdependence\, love\, joy and collective power. \n \n  \nA poster features a digital painting of a Central Park scene\, with white text on the top right: ON VIEW DEC 7th – JAN 14th. On a gray background in white and red text writes: RESILIENCE AS A PRACTICE; Join us for Resilience as a Practice\, a vibrant exhibition showcasing the work of disabled artists who are reflecting on what it means to be resilient. Through bold works addressing love\, connection\, and collective care these artists turn resilience into a shared practice rooted in interdependence\, love\, joy\, and collective power. Sunday 12/7/25 2PM-5PM. Positive Exposure Gallery 83 Maiden Lane NY\, NY 4th Floor. Footer contains logos: ADAPT COMMUNITY NETWORK\, [we change]\, and POSITIVE EXPOSURE. \n 
URL:https://positiveexposure.org/event/resilience-as-a-practice-opening-celebration/
LOCATION:Positive Exposure Gallery\, 83 Maiden Lane\, New York\, NY\, 10038
CATEGORIES:PE Gallery
ATTACH;FMTTYPE=image/jpeg:https://files.positiveexposure.org/wp-content/uploads/2025/11/21165702/1-7.jpg
END:VEVENT
BEGIN:VEVENT
DTSTART;TZID=America/New_York:20251208T180000
DTEND;TZID=America/New_York:20251208T203000
DTSTAMP:20260424T193333
CREATED:20251106T234855Z
LAST-MODIFIED:20251120T195100Z
UID:43856-1765216800-1765225800@positiveexposure.org
SUMMARY:Film Screening: The Biggest Obstacle
DESCRIPTION:Film Screening: The Biggest Obstacle\nMonday\, December 8\, 6:00-8:30pm\nJoin us for a screening of the 2021 film The Biggest Obstacle. The film will begin at 6:30pm and run for 99 minutes with open captions and audio description. There will be time before and after for viewing the New York Disability Rights Archive introductory exhibit and questions with Associate Producer\, Jessica Murray.\nThe Biggest Obstacle follows the investigations of researcher and disability rights activist Jessica Murray as she examines accessibility in the New York City Transit System over a two year period. From 2018-2020\, she progresses from being a vocal activist to having the ear of MTA leadership. The film features numerous interviews and ride-alongs with people with a variety of disabilities as they discuss and demonstrate their experiences with the transit system and their activism. It also includes documentation of numerous protests and an exclusive interview and ride-along with New York Transit President Andy Byford as he discusses the work he did to improve accessibility and his sudden departure in the middle of restructuring the system just before the COVID-19 virus first hit New York City.\n\n\nImage Description: Film poster depicting an blurry photograph of people waiting for a train. The image is dark and layered with brightly colored lights. The text reads: “The Biggest Obstacle\, a film by Gearóid Dolan.” Three film laurels are depicted at the bottom of the poster\, including “Official Selection Manhattan Film Festival 2021\,” “Winner Award of Merit at the IndieFEST Film Awards 2021\,” and “Official Selection New York City Independent Film Festival 2021.”
URL:https://positiveexposure.org/event/film-screening-the-biggest-obstacle-dec8/
LOCATION:Positive Exposure Gallery\, 83 Maiden Lane\, New York\, NY\, 10038
CATEGORIES:PE Gallery,Photography and Film
ATTACH;FMTTYPE=image/png:https://files.positiveexposure.org/wp-content/uploads/2025/11/06190342/4.png
END:VEVENT
BEGIN:VEVENT
DTSTART;TZID=America/New_York:20251210T170000
DTEND;TZID=America/New_York:20251210T210000
DTSTAMP:20260424T193333
CREATED:20251201T205009Z
LAST-MODIFIED:20251201T221646Z
UID:43966-1765386000-1765400400@positiveexposure.org
SUMMARY:REELABILITIES: Celebrating 18 Years of Reframing Disability
DESCRIPTION:OUR STORIES: CELEBRATING 18 YEARS OF REELABILITIES\n\nTickets Here & Details Below!\n\n\n\n\nEvent Details \nJoin us for an evening of film\, storytelling\, and community as we celebrate 18 years of ReelAbilities. We are proud to honor ReelAbilities’ founder\, Anita Altman\, whose vision and leadership shaped ReelAbilities into a movement where disabled voices and communities are celebrated\, amplified\, and empowered. \nThis intimate celebration supports the next chapter of ReelAbilities as we continue to expand our reach and impact during a pivotal time for disability advocacy and arts funding. Together\, we’ll champion authentic disability representation in film and the arts and ensure that disability voices remain at the forefront—illuminating the stories that move and connect us all. \n\n\n\nEvent Program:\n\n5:00 PM – Private Gallery Tour (Community Advocate level and above)\nEnjoy an exclusive tour of the Disability Rights Archive exhibit\, led by award-winning photographer Rick Guidotti\, Founder & CEO of Positive Exposure. The evening begins with wine and appetizers as Rick shares his perspective and stories behind the exhibit.\n\n6:00 PM – Reception\nKick off the evening with a lively reception featuring delicious hors d’oeuvres and beverages\, a perfect time to mingle\, celebrate\, and learn more.\n\n7:00 PM – Welcome Remarks & Honoring Anita Altman\nThe main program begins with heartfelt welcome remarks\, and honoring ReelAbilities’ founder\, Anita Altman\, recognizing her vision\, leadership\, and dedication.\n\n7:30 PM – Our Stories\nExperience the power of storytelling as community members share their journeys through spoken word and film. Featuring: Sheila Nevins\, Steve Way\, Shannon DeVido and Pavar Snipe. \nEvent Chairs: Peter Lubell | Cymone Speed | Jade Netanya Ullmann \nACCESSIBILITY\nReelAbilities strives for inclusion of all individuals. The event will feature Open Captions | Audio Description | ASL interpretation | CART (live transcript) | Sensory-friendly space | Full accessibility for people using wheelchairs and mobility devices. For questions or requests regarding accessibility\, please contact info@reelabilities.org. \nAdditional giving tiers are available here: https://secure.givelively.org/event/reelabilities/our-stories-celebrating-18-years-of-reelabilities \nAttire: Elegant evening wear / cocktail attire encouraged
URL:https://positiveexposure.org/event/reelabilities-celebrating-18-years-of-reframing-disability/
LOCATION:Positive Exposure Gallery\, 83 Maiden Lane\, New York\, NY\, 10038
CATEGORIES:PE Gallery
ATTACH;FMTTYPE=image/jpeg:https://files.positiveexposure.org/wp-content/uploads/2025/12/01154927/reelabilities.jpg
END:VEVENT
END:VCALENDAR