BEGIN:VCALENDAR
VERSION:2.0
PRODID:-//Positive Exposure - ECPv6.15.20//NONSGML v1.0//EN
CALSCALE:GREGORIAN
METHOD:PUBLISH
X-WR-CALNAME:Positive Exposure
X-ORIGINAL-URL:https://positiveexposure.org
X-WR-CALDESC:Events for Positive Exposure
REFRESH-INTERVAL;VALUE=DURATION:PT1H
X-Robots-Tag:noindex
X-PUBLISHED-TTL:PT1H
BEGIN:VTIMEZONE
TZID:America/New_York
BEGIN:DAYLIGHT
TZOFFSETFROM:-0500
TZOFFSETTO:-0400
TZNAME:EDT
DTSTART:20240310T070000
END:DAYLIGHT
BEGIN:STANDARD
TZOFFSETFROM:-0400
TZOFFSETTO:-0500
TZNAME:EST
DTSTART:20241103T060000
END:STANDARD
BEGIN:DAYLIGHT
TZOFFSETFROM:-0500
TZOFFSETTO:-0400
TZNAME:EDT
DTSTART:20250309T070000
END:DAYLIGHT
BEGIN:STANDARD
TZOFFSETFROM:-0400
TZOFFSETTO:-0500
TZNAME:EST
DTSTART:20251102T060000
END:STANDARD
BEGIN:DAYLIGHT
TZOFFSETFROM:-0500
TZOFFSETTO:-0400
TZNAME:EDT
DTSTART:20260308T070000
END:DAYLIGHT
BEGIN:STANDARD
TZOFFSETFROM:-0400
TZOFFSETTO:-0500
TZNAME:EST
DTSTART:20261101T060000
END:STANDARD
BEGIN:DAYLIGHT
TZOFFSETFROM:-0500
TZOFFSETTO:-0400
TZNAME:EDT
DTSTART:20270314T070000
END:DAYLIGHT
BEGIN:STANDARD
TZOFFSETFROM:-0400
TZOFFSETTO:-0500
TZNAME:EST
DTSTART:20271107T060000
END:STANDARD
END:VTIMEZONE
BEGIN:VEVENT
DTSTART;VALUE=DATE:20251016
DTEND;VALUE=DATE:20260201
DTSTAMP:20260421T115105
CREATED:20250916T155404Z
LAST-MODIFIED:20251216T192315Z
UID:43701-1760572800-1769903999@positiveexposure.org
SUMMARY:Introducing the New York Disability Rights Archive
DESCRIPTION:Introducing the New York Disability Rights Archive\n\nOn View October 16\, 2025 – January 31\, 2026\nDrop-In Guided Tours: Saturday\, January 10\, 11am – 4pm\nVisits by Appointment : Monday – Friday 10am – 6pm; Saturday 10am – 2pm\nPlease Contact: events@positiveexposure.org\nLearn more about the archive—and the long fight for accessible transportation in New York City. The New York Disability Rights Archive\, established in 2021\, preserves the records\, stories\, and strategies of local activists and advocates. Many of these individuals helped drive the movement that led to the Americans with Disabilities Act (ADA) and continue to push for change today.\nTransportation access is the archive’s most extensively documented topic area. Explore highlights that trace the evolution of New York City’s transportation system from the post–World War II era to the present—and witness how decades of activism reshaped the city.\n\nImage Description: Introductory poster with information about the event and a collage of photos and pamphlet covers from the New York Disability Rights Archive related to accessible transportation.
URL:https://positiveexposure.org/event/nydisabilityrightsarchive/
LOCATION:Positive Exposure Gallery\, 83 Maiden Lane\, New York\, NY\, 10038
CATEGORIES:PE Gallery
ATTACH;FMTTYPE=image/png:https://files.positiveexposure.org/wp-content/uploads/2025/11/06164000/Screenshot-2025-11-06-at-4.39.49-PM.png
END:VEVENT
BEGIN:VEVENT
DTSTART;TZID=America/New_York:20251208T180000
DTEND;TZID=America/New_York:20251208T203000
DTSTAMP:20260421T115105
CREATED:20251106T234855Z
LAST-MODIFIED:20251120T195100Z
UID:43856-1765216800-1765225800@positiveexposure.org
SUMMARY:Film Screening: The Biggest Obstacle
DESCRIPTION:Film Screening: The Biggest Obstacle\nMonday\, December 8\, 6:00-8:30pm\nJoin us for a screening of the 2021 film The Biggest Obstacle. The film will begin at 6:30pm and run for 99 minutes with open captions and audio description. There will be time before and after for viewing the New York Disability Rights Archive introductory exhibit and questions with Associate Producer\, Jessica Murray.\nThe Biggest Obstacle follows the investigations of researcher and disability rights activist Jessica Murray as she examines accessibility in the New York City Transit System over a two year period. From 2018-2020\, she progresses from being a vocal activist to having the ear of MTA leadership. The film features numerous interviews and ride-alongs with people with a variety of disabilities as they discuss and demonstrate their experiences with the transit system and their activism. It also includes documentation of numerous protests and an exclusive interview and ride-along with New York Transit President Andy Byford as he discusses the work he did to improve accessibility and his sudden departure in the middle of restructuring the system just before the COVID-19 virus first hit New York City.\n\n\nImage Description: Film poster depicting an blurry photograph of people waiting for a train. The image is dark and layered with brightly colored lights. The text reads: “The Biggest Obstacle\, a film by Gearóid Dolan.” Three film laurels are depicted at the bottom of the poster\, including “Official Selection Manhattan Film Festival 2021\,” “Winner Award of Merit at the IndieFEST Film Awards 2021\,” and “Official Selection New York City Independent Film Festival 2021.”
URL:https://positiveexposure.org/event/film-screening-the-biggest-obstacle-dec8/
LOCATION:Positive Exposure Gallery\, 83 Maiden Lane\, New York\, NY\, 10038
CATEGORIES:PE Gallery,Photography and Film
ATTACH;FMTTYPE=image/png:https://files.positiveexposure.org/wp-content/uploads/2025/11/06190342/4.png
END:VEVENT
END:VCALENDAR