BEGIN:VCALENDAR
VERSION:2.0
PRODID:-//Positive Exposure - ECPv6.15.20//NONSGML v1.0//EN
CALSCALE:GREGORIAN
METHOD:PUBLISH
X-WR-CALNAME:Positive Exposure
X-ORIGINAL-URL:https://positiveexposure.org
X-WR-CALDESC:Events for Positive Exposure
REFRESH-INTERVAL;VALUE=DURATION:PT1H
X-Robots-Tag:noindex
X-PUBLISHED-TTL:PT1H
BEGIN:VTIMEZONE
TZID:America/New_York
BEGIN:DAYLIGHT
TZOFFSETFROM:-0500
TZOFFSETTO:-0400
TZNAME:EDT
DTSTART:20250309T070000
END:DAYLIGHT
BEGIN:STANDARD
TZOFFSETFROM:-0400
TZOFFSETTO:-0500
TZNAME:EST
DTSTART:20251102T060000
END:STANDARD
BEGIN:DAYLIGHT
TZOFFSETFROM:-0500
TZOFFSETTO:-0400
TZNAME:EDT
DTSTART:20260308T070000
END:DAYLIGHT
BEGIN:STANDARD
TZOFFSETFROM:-0400
TZOFFSETTO:-0500
TZNAME:EST
DTSTART:20261101T060000
END:STANDARD
BEGIN:DAYLIGHT
TZOFFSETFROM:-0500
TZOFFSETTO:-0400
TZNAME:EDT
DTSTART:20270314T070000
END:DAYLIGHT
BEGIN:STANDARD
TZOFFSETFROM:-0400
TZOFFSETTO:-0500
TZNAME:EST
DTSTART:20271107T060000
END:STANDARD
END:VTIMEZONE
BEGIN:VEVENT
DTSTART;TZID=America/New_York:20260610T170000
DTEND;TZID=America/New_York:20260610T210000
DTSTAMP:20260420T210227
CREATED:20260416T155834Z
LAST-MODIFIED:20260416T155834Z
UID:44388-1781110800-1781125200@positiveexposure.org
SUMMARY:Future of Fashion Show: Bullock Inclusion
DESCRIPTION:Future of Fashion – New York Edition is an inclusive fashion showcase and thought-leadership evening dedicated to disability inclusion\, adaptive design\, and the future of fashion for everyone. It takes place as an side event of COSP 19 — the 19th Conference of States ParIes to the UN Convention on the Rights of Persons with Disabilities — held at the United NaIons headquarters in New York City on 9–11 June 2026.  \nThe event brings together fashion designers\, global brands\, technology innovators\, disability advocates\, UN delegates\, and the press to explore a shared question:  \nWhat does fashion look like when it is designed for the full spectrum of human bodies and experiences?  \nThe answer is a runway that features real disabled models\, adaptive and inclusive collections\, and a conversation that refuses to treat inclusion as an after thought.  \nThe New York Edition builds on a strong track record in London. Bullock Inclusion has produced inclusive fashion events at London Fashion Week since 2022\, most recently with the Inclusive Circle Fashion Show (A/W 2025)\, listed on the LFW calendar\, generating over 670\,000 media impressions. These events have featured designers and models from across the disability community\, with collaborators including Central Saint Martins\, Royal College of Arts\, UDESC\, Zumba\, and Unhidden\, among others  \nTime & Location: Stay tuned for more details.\n\n\n10 Jun 2026\, 6-9 \nPositive Exposure\, 83 Maiden Ln\, New York\, NY 10038\, USA \n\n\nAbout the event\n\n\n\n\nBullock Inclusion presents an inclusive fashion show in New York\, taking place as a side event alongside the United Nations\, bringing global attention to accessibility and representation in fashion. \nThe event will be hosted at Positive Exposure\, featuring five established brands leading the way in inclusive design.  \nThe evening will begin with doors opening at 6:00pm\, followed by a panel discussion at 6:30pm exploring the future of adaptive and inclusive fashion. \nThe runway show will start at 7:30pm\, showcasing a powerful and beautiful celebration of diversity\, innovation\, and creativity.  \nThe night will continue with an after party\, with a special presentation by Daniel’s Music Foundation\, adding a unique and inspiring close to the experience. \nThis event is a bold statement on what fashion can and should be inclusive\, representative\, and open to all. \n\n\n\n\nSponsors:\nMicrosoft\nBullock Inclusion (UK) — Producer\nHilfsgemeinschaft der Blinden und Sehschwachen Österreichs\nConnie Vandarakis – Our Motion\nVictor Calise\, PLY Director\, Global Accessibility Center of Excellence at Walmart\nPositive Exposure Educational Collective and Gallery — Venue (in-kind)\nBeplay — ASL Interpretation\nAtmos Magazine – Future Being\nEnAble India\nHidden Disabilities Sunflower 🌻\nAccurate Complete Accountancy\nFIT — Fashion Institute of Technology\, NY \nhashtag#BullockInclusion hashtag#FutureOfFashion hashtag#InclusiveInnovation hashtag#Accessibility hashtag#DisabilityInclusion hashtag#ESG hashtag#Leadership hashtag#FashionIndustry
URL:https://positiveexposure.org/event/future-of-fashion-show-bullock-inclusion/
CATEGORIES:PE Gallery
ATTACH;FMTTYPE=image/png:https://files.positiveexposure.org/wp-content/uploads/2026/04/16115005/Screenshot-2026-04-16-at-10.55.07-AM.png
END:VEVENT
END:VCALENDAR