BEGIN:VCALENDAR
VERSION:2.0
PRODID:-//Positive Exposure - ECPv6.15.20//NONSGML v1.0//EN
CALSCALE:GREGORIAN
METHOD:PUBLISH
X-WR-CALNAME:Positive Exposure
X-ORIGINAL-URL:https://positiveexposure.org
X-WR-CALDESC:Events for Positive Exposure
REFRESH-INTERVAL;VALUE=DURATION:PT1H
X-Robots-Tag:noindex
X-PUBLISHED-TTL:PT1H
BEGIN:VTIMEZONE
TZID:America/New_York
BEGIN:DAYLIGHT
TZOFFSETFROM:-0500
TZOFFSETTO:-0400
TZNAME:EDT
DTSTART:20240310T070000
END:DAYLIGHT
BEGIN:STANDARD
TZOFFSETFROM:-0400
TZOFFSETTO:-0500
TZNAME:EST
DTSTART:20241103T060000
END:STANDARD
BEGIN:DAYLIGHT
TZOFFSETFROM:-0500
TZOFFSETTO:-0400
TZNAME:EDT
DTSTART:20250309T070000
END:DAYLIGHT
BEGIN:STANDARD
TZOFFSETFROM:-0400
TZOFFSETTO:-0500
TZNAME:EST
DTSTART:20251102T060000
END:STANDARD
BEGIN:DAYLIGHT
TZOFFSETFROM:-0500
TZOFFSETTO:-0400
TZNAME:EDT
DTSTART:20260308T070000
END:DAYLIGHT
BEGIN:STANDARD
TZOFFSETFROM:-0400
TZOFFSETTO:-0500
TZNAME:EST
DTSTART:20261101T060000
END:STANDARD
END:VTIMEZONE
BEGIN:VEVENT
DTSTART;TZID=America/New_York:20251103T150000
DTEND;TZID=America/New_York:20251103T170000
DTSTAMP:20260423T065301
CREATED:20251101T142333Z
LAST-MODIFIED:20251102T142951Z
UID:43799-1762182000-1762189200@positiveexposure.org
SUMMARY:National Association of Direct Support Professionals Graduation: Hosted @ Positive Exposure Gallery
DESCRIPTION:2025 Fall-Winter NADSP Graduation Program \nNADSP PILOT GRADUATION  \nWELCOME  \nMarco Damiani\, Chief Executive Officer\, AHRC NYC \nKEYNOTE SPEAKER  \nRick Guidotti\, Founder and Director\, Positive Exposure \nINTRODUCTORY REMARKS  \nJohn Barbuto\, Executive Deputy Commissioner of New York State\, OPWDD \nSIGNIFICANCE OF THE PROGRAM TO AHRC NYC  \nAND THE NEURODIVERSE FIELD  \nKathy Brown\, Regional Manager of E-Badge Academy Operations\, NADSP \nKembelyn Diaz\, Community Support Professional\, DSP-3\, AHRC NYC Brooklyn Transitions Edwin Rodriguez\, Jr.\, Director of Brooklyn Transitions\, AHRC NYC\, Front Line Supervisor and Team Lead for NADSP \nMatthew Halder\, Community Support Supervisor and Front Line Supervisor\, AHRC NYC Fisher Adult Day Services \nRECOGNITION OF GRADUATING CLASS AND PRESENTATION OF CERTIFICATIONS  \nAdrienne Mazeau\, Deputy Commissioner for the Division of Administration\, NYS of OPWDD \nLindsay Murry\, NADSP E-Badge Academy Project Manager\, AHRC NYC Bernadette Balane\, Staff Training Director\, Adult Day Services\, AHRC NYC and Team Lead for NADSP
URL:https://positiveexposure.org/event/national-association-of-direct-support-professionals-graduation-hosted-positive-exposure-gallery/
CATEGORIES:PE Gallery
ATTACH;FMTTYPE=image/jpeg:https://files.positiveexposure.org/wp-content/uploads/2025/11/01103605/1.jpg
END:VEVENT
END:VCALENDAR